BEGIN:VCALENDAR
VERSION:2.0
PRODID:-//JazzCity Bilk - ECPv6.15.20//NONSGML v1.0//EN
CALSCALE:GREGORIAN
METHOD:PUBLISH
X-WR-CALNAME:JazzCity Bilk
X-ORIGINAL-URL:https://www.jazzcitybilk.com
X-WR-CALDESC:Veranstaltungen für JazzCity Bilk
REFRESH-INTERVAL;VALUE=DURATION:PT1H
X-Robots-Tag:noindex
X-PUBLISHED-TTL:PT1H
BEGIN:VTIMEZONE
TZID:Europe/Berlin
BEGIN:DAYLIGHT
TZOFFSETFROM:+0100
TZOFFSETTO:+0200
TZNAME:CEST
DTSTART:20250330T010000
END:DAYLIGHT
BEGIN:STANDARD
TZOFFSETFROM:+0200
TZOFFSETTO:+0100
TZNAME:CET
DTSTART:20251026T010000
END:STANDARD
BEGIN:DAYLIGHT
TZOFFSETFROM:+0100
TZOFFSETTO:+0200
TZNAME:CEST
DTSTART:20260329T010000
END:DAYLIGHT
BEGIN:STANDARD
TZOFFSETFROM:+0200
TZOFFSETTO:+0100
TZNAME:CET
DTSTART:20261025T010000
END:STANDARD
BEGIN:DAYLIGHT
TZOFFSETFROM:+0100
TZOFFSETTO:+0200
TZNAME:CEST
DTSTART:20270328T010000
END:DAYLIGHT
BEGIN:STANDARD
TZOFFSETFROM:+0200
TZOFFSETTO:+0100
TZNAME:CET
DTSTART:20271031T010000
END:STANDARD
END:VTIMEZONE
BEGIN:VEVENT
DTSTART;TZID=Europe/Berlin:20260508T190000
DTEND;TZID=Europe/Berlin:20260508T213000
DTSTAMP:20260425T142143
CREATED:20260309T153748Z
LAST-MODIFIED:20260326T131948Z
UID:1443-1778266800-1778275800@www.jazzcitybilk.com
SUMMARY:Avanjit Singha Trio
DESCRIPTION:Es gibt eine aufregende neue Welle\, die in der Welt des Jazz und seiner abgeleiteten Subgenres heranrollt. Und die Mitglieder dieses Ensembles haben es sich zur Aufgabe gemacht\, auf diesen Zug aufzuspringen. \nWenn man so will\, lernen sie von der New School of Jazz – sie hat definitiv einen großen Einfluss auf alle drei gehabt. Gleichzeitig respektieren und erkennen sie die Bedeutung der traditionellen Seite an; genug Einblick darin bekommen sie am Conservatorium Maastricht.Denn sie setzen sich dafür ein\, die Vorstellung aufrechtzuerhalten\, dass es keine Hierarchie zwischen diesen verschiedenen Schulen/Stilen/Subgenres des Jazz gibt – sei es Avantgarde\, Fusion\, Americana-Jazz oder Punk-Jazz. Wenn man beginnt\, jedes davon als unterschiedliche Formen eines wiederkehrenden Mediums mit derselben Absicht und Botschaft zu sehen\, verschwimmen die Grenzen zwischen ihnen. Und man beginnt\, jeden Stil sowohl einzeln als auch im Gesamten zu schätzen! \nIm Falle dieses speziellen Ensembles wenden wir jeweils unsere eigenen Methoden an\, die auf einer Verschmelzung unserer persönlichen Einflüsse beruhen\, um das Neue und Unerhörte zu schaffen. \nBesetzung: Avanjit Singha (git)\, Alex Chavez (b)\, Micky Laheij (dr) \nEintritt frei!
URL:https://www.jazzcitybilk.com/veranstaltung/bilker-kneipen-rally-avanjit-singha-trio/
LOCATION:Bar Modigliani\, Friedensplätzchen 6\, Düsseldorf\, 40219\, Germany
CATEGORIES:Bilker Kneipen Rally
ATTACH;FMTTYPE=image/webp:https://www.jazzcitybilk.com/wp-content/uploads/2026/03/avanjit-singha-trio-1.webp
END:VEVENT
END:VCALENDAR