BEGIN:VCALENDAR
VERSION:2.0
PRODID:-//JazzCity Bilk - ECPv6.15.20//NONSGML v1.0//EN
CALSCALE:GREGORIAN
METHOD:PUBLISH
X-WR-CALNAME:JazzCity Bilk
X-ORIGINAL-URL:https://www.jazzcitybilk.com
X-WR-CALDESC:Veranstaltungen für JazzCity Bilk
REFRESH-INTERVAL;VALUE=DURATION:PT1H
X-Robots-Tag:noindex
X-PUBLISHED-TTL:PT1H
BEGIN:VTIMEZONE
TZID:Europe/Berlin
BEGIN:DAYLIGHT
TZOFFSETFROM:+0100
TZOFFSETTO:+0200
TZNAME:CEST
DTSTART:20250330T010000
END:DAYLIGHT
BEGIN:STANDARD
TZOFFSETFROM:+0200
TZOFFSETTO:+0100
TZNAME:CET
DTSTART:20251026T010000
END:STANDARD
BEGIN:DAYLIGHT
TZOFFSETFROM:+0100
TZOFFSETTO:+0200
TZNAME:CEST
DTSTART:20260329T010000
END:DAYLIGHT
BEGIN:STANDARD
TZOFFSETFROM:+0200
TZOFFSETTO:+0100
TZNAME:CET
DTSTART:20261025T010000
END:STANDARD
BEGIN:DAYLIGHT
TZOFFSETFROM:+0100
TZOFFSETTO:+0200
TZNAME:CEST
DTSTART:20270328T010000
END:DAYLIGHT
BEGIN:STANDARD
TZOFFSETFROM:+0200
TZOFFSETTO:+0100
TZNAME:CET
DTSTART:20271031T010000
END:STANDARD
END:VTIMEZONE
BEGIN:VEVENT
DTSTART;TZID=Europe/Berlin:20260508T190000
DTEND;TZID=Europe/Berlin:20260508T210000
DTSTAMP:20260425T163654
CREATED:20260309T135717Z
LAST-MODIFIED:20260326T131723Z
UID:1420-1778266800-1778274000@www.jazzcitybilk.com
SUMMARY:bULBES
DESCRIPTION:bULBES ist ein belgisches Jazz‑Trio\, das 2006 gegründet wurde\, nachdem sich die Mitglieder an der Jazz Academy of Amay (B) kennengelernt hatten. Die Band entwickelt sofort ein eigenes Repertoire\, das sich entsprechend den instrumentalen Interaktionen und den Inspirationen des Moments weiterentwickelt. \nbULBES hat im Laufe der Zeit einen Stil geprägt\, der mehrfach als „Garage Jazz“ beschrieben wurde – ein roher\, „Plug-and-Play“- und rockig gefärbter Sound mit weiten Räumen für Improvisation. \nBesetzung: Sam Andrianne (b)\, Vincent Durieu (dr)\, Etienne Wathieu (git) \nEintritt frei!
URL:https://www.jazzcitybilk.com/veranstaltung/bilker-kneipen-rally-bulbes/
LOCATION:Bar Musame\, Fürsten Platz 5\, Düsseldorf\, 40215\, Germany
CATEGORIES:Bilker Kneipen Rally
ATTACH;FMTTYPE=image/webp:https://www.jazzcitybilk.com/wp-content/uploads/2026/03/bulb-main-picture-neu.webp
END:VEVENT
END:VCALENDAR