BEGIN:VCALENDAR
VERSION:2.0
PRODID:-//JazzCity Bilk - ECPv6.15.20//NONSGML v1.0//EN
CALSCALE:GREGORIAN
METHOD:PUBLISH
X-WR-CALNAME:JazzCity Bilk
X-ORIGINAL-URL:https://www.jazzcitybilk.com
X-WR-CALDESC:Veranstaltungen für JazzCity Bilk
REFRESH-INTERVAL;VALUE=DURATION:PT1H
X-Robots-Tag:noindex
X-PUBLISHED-TTL:PT1H
BEGIN:VTIMEZONE
TZID:Europe/Berlin
BEGIN:DAYLIGHT
TZOFFSETFROM:+0100
TZOFFSETTO:+0200
TZNAME:CEST
DTSTART:20250330T010000
END:DAYLIGHT
BEGIN:STANDARD
TZOFFSETFROM:+0200
TZOFFSETTO:+0100
TZNAME:CET
DTSTART:20251026T010000
END:STANDARD
BEGIN:DAYLIGHT
TZOFFSETFROM:+0100
TZOFFSETTO:+0200
TZNAME:CEST
DTSTART:20260329T010000
END:DAYLIGHT
BEGIN:STANDARD
TZOFFSETFROM:+0200
TZOFFSETTO:+0100
TZNAME:CET
DTSTART:20261025T010000
END:STANDARD
BEGIN:DAYLIGHT
TZOFFSETFROM:+0100
TZOFFSETTO:+0200
TZNAME:CEST
DTSTART:20270328T010000
END:DAYLIGHT
BEGIN:STANDARD
TZOFFSETFROM:+0200
TZOFFSETTO:+0100
TZNAME:CET
DTSTART:20271031T010000
END:STANDARD
END:VTIMEZONE
BEGIN:VEVENT
DTSTART;TZID=Europe/Berlin:20260508T190000
DTEND;TZID=Europe/Berlin:20260508T220000
DTSTAMP:20260425T163438
CREATED:20260309T111709Z
LAST-MODIFIED:20260326T131552Z
UID:1383-1778266800-1778277600@www.jazzcitybilk.com
SUMMARY:QBan Soul
DESCRIPTION:Qban Soul wurde 2016 von Majela gegründet\, die mit Gesang in fünf Sprachen und meisterhaftem Bassspiel brilliert. \nGemeinsam mit langjährigen Mitstreitern aus Kuba und Spanien verschmilzt die Band Flamenco\, Pop und Jazz. Ihr Repertoire umfasst lateinamerikanische Klassiker und eigene Werke\, die leidenschaftlich interpretiert werden. Taucht ein in die pulsierende Atmosphäre von Havanna – mitten in Düsseldorf. \nBesetzung: Majela van der Heusen (v)\, Yansser Cardoso (per)\, Raciel Estrada (p) \nEintritt frei! \n 
URL:https://www.jazzcitybilk.com/veranstaltung/bilker-kneipen-rally-qban-soul/
LOCATION:Sol y Sombra\, Kirchfeldstr. 85\, Düsseldorf\, 40215\, Germany
CATEGORIES:Bilker Kneipen Rally
ATTACH;FMTTYPE=image/webp:https://www.jazzcitybilk.com/wp-content/uploads/2026/03/20241203_majela-van-der-heusen_c_gert-mothes_500.2000x0.webp
END:VEVENT
END:VCALENDAR