BEGIN:VCALENDAR
VERSION:2.0
PRODID:-//JazzCity Bilk - ECPv6.15.20//NONSGML v1.0//EN
CALSCALE:GREGORIAN
METHOD:PUBLISH
X-WR-CALNAME:JazzCity Bilk
X-ORIGINAL-URL:https://www.jazzcitybilk.com
X-WR-CALDESC:Veranstaltungen für JazzCity Bilk
REFRESH-INTERVAL;VALUE=DURATION:PT1H
X-Robots-Tag:noindex
X-PUBLISHED-TTL:PT1H
BEGIN:VTIMEZONE
TZID:Europe/Berlin
BEGIN:DAYLIGHT
TZOFFSETFROM:+0100
TZOFFSETTO:+0200
TZNAME:CEST
DTSTART:20250330T010000
END:DAYLIGHT
BEGIN:STANDARD
TZOFFSETFROM:+0200
TZOFFSETTO:+0100
TZNAME:CET
DTSTART:20251026T010000
END:STANDARD
BEGIN:DAYLIGHT
TZOFFSETFROM:+0100
TZOFFSETTO:+0200
TZNAME:CEST
DTSTART:20260329T010000
END:DAYLIGHT
BEGIN:STANDARD
TZOFFSETFROM:+0200
TZOFFSETTO:+0100
TZNAME:CET
DTSTART:20261025T010000
END:STANDARD
BEGIN:DAYLIGHT
TZOFFSETFROM:+0100
TZOFFSETTO:+0200
TZNAME:CEST
DTSTART:20270328T010000
END:DAYLIGHT
BEGIN:STANDARD
TZOFFSETFROM:+0200
TZOFFSETTO:+0100
TZNAME:CET
DTSTART:20271031T010000
END:STANDARD
END:VTIMEZONE
BEGIN:VEVENT
DTSTART;TZID=Europe/Berlin:20260508T190000
DTEND;TZID=Europe/Berlin:20260508T213000
DTSTAMP:20260425T162326
CREATED:20260309T145953Z
LAST-MODIFIED:20260402T111138Z
UID:1432-1778266800-1778275800@www.jazzcitybilk.com
SUMMARY:The Brams
DESCRIPTION:Duo „The Brams“ feat. Christine Corvisier(sax) & Philipp Brämswig (git) \nMit Leidenschaft für den eingängigen Song wie für die Klassiker des vom „Great American Songbook“ geprägten Repertoires widmen sich „The Brams“ sowohl eigenen Kompositionen als auch ausgewählten Fremdwerken. Im intimen Dialog von Tenorsaxophon und Gitarre entfaltet sich ein Klangraum\, der gleichermaßen transparent wie vielschichtig ist. \nIhr expressives Zusammenspiel lebt von feiner Dynamik\, klanglicher Tiefe und sorgfältig ausgearbeiteten Arrangements. Hier treffen erzählerische Melodielinien auf subtile harmonische Wendungen – stets mit Raum für Spontaneität und improvisatorische Finesse.\nEin Set für Jazzliebhaber:innen ebenso wie für neugierige Ohren jenseits stilistischer Grenzen: kammermusikalisch verdichtet\, emotional unmittelbar und mit großer musikalischer Souveränität präsentiert. \nEintritt frei!
URL:https://www.jazzcitybilk.com/veranstaltung/bilker-kneipen-rally-the-brams-feat-christine-corvisier/
LOCATION:Covent Garden\, Bilker Allee 126\, Düsseldorf\, 40217\, Germany
CATEGORIES:Bilker Kneipen Rally
ATTACH;FMTTYPE=image/webp:https://www.jazzcitybilk.com/wp-content/uploads/2026/03/the-brams-2.webp
END:VEVENT
END:VCALENDAR