BEGIN:VCALENDAR
VERSION:2.0
PRODID:-//JazzCity Bilk - ECPv6.15.20//NONSGML v1.0//EN
CALSCALE:GREGORIAN
METHOD:PUBLISH
X-WR-CALNAME:JazzCity Bilk
X-ORIGINAL-URL:https://www.jazzcitybilk.com
X-WR-CALDESC:Veranstaltungen für JazzCity Bilk
REFRESH-INTERVAL;VALUE=DURATION:PT1H
X-Robots-Tag:noindex
X-PUBLISHED-TTL:PT1H
BEGIN:VTIMEZONE
TZID:Europe/Berlin
BEGIN:DAYLIGHT
TZOFFSETFROM:+0100
TZOFFSETTO:+0200
TZNAME:CEST
DTSTART:20250330T010000
END:DAYLIGHT
BEGIN:STANDARD
TZOFFSETFROM:+0200
TZOFFSETTO:+0100
TZNAME:CET
DTSTART:20251026T010000
END:STANDARD
BEGIN:DAYLIGHT
TZOFFSETFROM:+0100
TZOFFSETTO:+0200
TZNAME:CEST
DTSTART:20260329T010000
END:DAYLIGHT
BEGIN:STANDARD
TZOFFSETFROM:+0200
TZOFFSETTO:+0100
TZNAME:CET
DTSTART:20261025T010000
END:STANDARD
BEGIN:DAYLIGHT
TZOFFSETFROM:+0100
TZOFFSETTO:+0200
TZNAME:CEST
DTSTART:20270328T010000
END:DAYLIGHT
BEGIN:STANDARD
TZOFFSETFROM:+0200
TZOFFSETTO:+0100
TZNAME:CET
DTSTART:20271031T010000
END:STANDARD
END:VTIMEZONE
BEGIN:VEVENT
DTSTART;TZID=Europe/Berlin:20260508T190000
DTEND;TZID=Europe/Berlin:20260508T213000
DTSTAMP:20260425T164254
CREATED:20260310T154642Z
LAST-MODIFIED:20260326T132159Z
UID:1648-1778266800-1778275800@www.jazzcitybilk.com
SUMMARY:Hidden Agenda
DESCRIPTION:Wer spielt heute Abend? Gute Frage. \nWir verraten nur so viel: Es wird gejazzt. Vielleicht groovt es\, vielleicht swingt es\, vielleicht passiert etwas völlig Unerwartetes. Auf der Bühne steht ein Überraschungs-Act\, und selbst wir wissen (fast) nicht genau\, was passieren wird. \nKommt vorbei\, lehnt euch zurück\, bestellt euch ein Getränk und lasst euch überraschen. Das Einzige\, was garantiert ist: gute Musik\, spontane Momente und dieser besondere Jazz-Zauber\, der entsteht\, wenn niemand so ganz weiß\, was als Nächstes kommt. \nJazz. Überraschung. Ihr. Mehr braucht es nicht. \nEintritt frei!
URL:https://www.jazzcitybilk.com/veranstaltung/hidden-agenda/
LOCATION:Antoniushof bei Alex\, Kirchfeldstr. 137\, Düsseldorf\, 40215\, Germany
CATEGORIES:Bilker Kneipen Rally
ATTACH;FMTTYPE=image/avif:https://www.jazzcitybilk.com/wp-content/uploads/2026/03/e64ff7_204681bc51a94bb1994985ebf009e0e6mv2.avif
END:VEVENT
END:VCALENDAR